Workbook

Sheet 基本情報
A1: 様式第１号（第４条第１号関係）
AC2: 利用者コード | AJ2: ＩＥＡ | AP2: －
C4: 基本情報（組織の概要、構成、活動状況など）
C8: 基本情報
C9: 組織・事業者名 | K9: ふりがな
C13: 代表者 （利用者） | K13: ふりがな | AB13: 役職名
C16: 所在地 | K16: 郵便番号 | T16: －
C20: 連絡先 | K20: 電話 | AB20: 連絡窓口 （実務担当者） | AH20: ふりがな
K23: メール
K26: ホームページ
C29: 業種
C31: 事業内容
C33: 資本金 | Q33: 万円 | S33: 設立（西暦） | AD33: 年 | AH33: 月 | AJ33: 従業員数 | AT33: 名
C36: 組織について
C37: 組織の概要
C40: 事業者の例（沿革、事業内容、生産品目の紹介など） 組合・団体の例（沿革、設立目的、構成員、関連組織など）
C49: 主要部門 の 名称 と 役割・権限 | K49: 名称 | V49: 役割 ・ 権限
K52: 名称 | V52: 役割 ・ 権限
K55: 名称 | V55: 役割 ・ 権限
K58: 名称 | V58: 役割 ・ 権限
C61: 部門の行う役割（環境に配慮するためにできる権限）を記載。 | K61: 名称 | V61: 役割 ・ 権限
K64: 名称 | V64: 役割 ・ 権限
C68: 環境に関係する事業活動の有無
C69: エネルギーの使用 | K69: 電力 | T69: ガス | AC69: ガソリン | AL69: 軽油
K71: 灯油 | T71: 重油 | AC71: その他 | AL71: 種類1 | AQ71: 種類２
C73: 廃棄物の排出 | K73: 一般廃棄物（自治体回収） | AD73: 一般廃棄物（委託処理）
K75: 産業廃棄物（固形） | W75: 産業廃棄物の種類
K77: 産業廃棄物（液状） | W77: 産業廃棄物の種類
C79: 水の使用・排水 | K79: 上水道 | R79: 井戸水 | Y79: 公共用水域への排水
C81: 化学物質の使用 | K81: 毒劇 | R81: PRTR | Y81: SDS | AF81: その他 | AM81: 化学物質の種類
C83: 再生可能エネルギーの活用 | K83: 太陽光 | R83: その他 | AF83: 再生可能エネルギー の年間発電量合計 | AS83: kWh
C86: 活動に向けて
C87: 活動の意気込み ＰＲ

Sheet 申請書
A1: 様式第７号（第６条関係）
AD2: 利用者コード | AK2: IEA | AQ2: － | AR2: =IF(基本情報!AQ2="","",基本情報!AQ2)
B3: 板橋エコアクション 活動申請書
AK7: 日付(西暦)
B10: （あて先） 板 橋 区 長
X11: 住所 | AB11: =IF(基本情報!K18="","",基本情報!K18)
X13: 氏名
AB14: =IF(基本情報!K10="","",基本情報!K10)
AB16: =IF(基本情報!AJ13="","",基本情報!AJ13) | AI16: =IF(基本情報!K14="","",基本情報!K14)
X19: 電話番号 | AB19: =IF(基本情報!O20="","",基本情報!O20)
AB21: (法人にあっては、名称、代表者の氏名及び主たる事務所の所在地)
B22: 板橋エコアクション実施要綱第６条第１項及び第２項に基づき、サービス利用に係る関係書類（エコレポート）を添えて次のとおり申請します。
C28: 組織・事業者名 | L28: =IF(基本情報!K10="","",基本情報!K10)
C30: 代表者 | L30: =IF(基本情報!K14="","",基本情報!K14)
C32: 所在地 | L32: =IF(基本情報!K18="","",基本情報!K18)
C34: 連絡先 | H34: 電話 | L34: =IF(基本情報!O20="","",基本情報!O20)
H36: メール | L36: =IF(基本情報!O23="","",基本情報!O23)
C38: 活動期間 | L38: （西暦） | W38: 年 | AB38: 月 | AD38: ～ | AH38: =IF(R38="","",IF(Y38=1,R38,R38+1)) | AM38: 年 | AO38: =IF(Y38=1,12,IF(Y38="","",Y38-1)) | AR38: 月
C40: 活動年度
C42: 申請内容 （該当する申請番号に○） | P42: 1 | R42: サービスの利用開始
P44: 2 | R44: 活動レベルＡ達成の確認
P46: 3 | R46: 活動レベルＢ達成の確認
P48: 4 | R48: 活動レベルＣ達成の確認
P50: 5 | R50: 登録内容の修正
P52: 6 | R52: サービスの利用停止
P54: 7 | R54: 事務局との各種コミュニケーション
C57: 通信欄

Sheet レベルA（状況）
A1: 様式第２号（第４条第２号関係）
A3: ［レベルA］状況整理と決定【状況整理】
A4: 前年度
B5: 種類 | C5: 内訳 | D5: 単位 | E5: =申請書!$Y$38 -> 0 | F5: =IF(OR(E5="", E5=0), "", IF(E5=12, 1, E5+1)) | G5: =IF(OR(F5="", F5=0), "", IF(F5=12, 1, F5+1)) | H5: =IF(OR(G5="", G5=0), "", IF(G5=12, 1, G5+1)) | I5: =IF(OR(H5="", H5=0), "", IF(H5=12, 1, H5+1)) | J5: =IF(OR(I5="", I5=0), "", IF(I5=12, 1, I5+1)) | K5: =IF(OR(J5="", J5=0), "", IF(J5=12, 1, J5+1)) | L5: =IF(OR(K5="", K5=0), "", IF(K5=12, 1, K5+1)) | M5: =IF(OR(L5="", L5=0), "", IF(L5=12, 1, L5+1)) | ... P5: =IF(OR(O5="", O5=0), "", IF(O5=12, 1, O5+1)) | Q5: 合計
A6: エネルギーの使用量 | B6: 電力 | C6: 使用量 | D6: kWh | Q6: =SUM(E6:P6) -> 0
C7: 料金 | D7: 円 | Q7: =SUM(E7:P7) -> 0
B8: ガス | C8: 使用量 | D8: ㎥ | Q8: =SUM(E8:P8) -> 0
C9: 料金 | D9: 円 | Q9: =SUM(E9:P9) -> 0
B10: ガソリン | C10: 使用量 | D10: ℓ | Q10: =SUM(E10:P10) -> 0
C11: 料金 | D11: 円 | Q11: =SUM(E11:P11) -> 0
B12: 軽油 | C12: 使用量 | D12: ℓ | Q12: =SUM(E12:P12) -> 0
C13: 料金 | D13: 円 | Q13: =SUM(E13:P13) -> 0
B14: 灯油 | C14: 使用量 | D14: ℓ | Q14: =SUM(E14:P14) -> 0
C15: 料金 | D15: 円 | Q15: =SUM(E15:P15) -> 0
B16: 重油 | C16: 使用量 | D16: ℓ | Q16: =SUM(E16:P16) -> 0
C17: 料金 | D17: 円 | Q17: =SUM(E17:P17) -> 0
B18: その他１ | C18: 使用量 | Q18: =SUM(E18:P18) -> 0
B19: =基本情報!$AL$72&"" | C19: 料金 | D19: 円 | Q19: =SUM(E19:P19) -> 0
B20: その他２ | C20: 使用量 | Q20: =SUM(E20:P20) -> 0
B21: =基本情報!$AQ$72&"" | C21: 料金 | D21: 円 | Q21: =SUM(E21:P21) -> 0
B22: 料金合計 | D22: 円 | E22: =E7+E9+E11+E13+E15+E17+E19+E21 -> 0 | F22: =F7+F9+F11+F13+F15+F17+F19+F21 -> 0 | G22: =G7+G9+G11+G13+G15+G17+G19+G21 -> 0 | H22: =H7+H9+H11+H13+H15+H17+H19+H21 -> 0 | I22: =I7+I9+I11+I13+I15+I17+I19+I21 -> 0 | J22: =J7+J9+J11+J13+J15+J17+J19+J21 -> 0 | K22: =K7+K9+K11+K13+K15+K17+K19+K21 -> 0 | L22: =L7+L9+L11+L13+L15+L17+L19+L21 -> 0 | ... P22: =P7+P9+P11+P13+P15+P17+P19+P21 -> 0 | Q22: =SUM(E22:P22) -> 0
A23: 廃棄物等の排出量 | B23: 一般廃棄物 （自治体回収） | C23: 排出量 | D23: ℓ | Q23: =SUM(E23:P23) -> 0
C24: 処理費用 | D24: 円 | Q24: =SUM(E24:P24) -> 0
B25: 一般廃棄物 （処理委託） | C25: 排出量 | D25: ㎏ | Q25: =SUM(E25:P25) -> 0
C26: 処理費用 | D26: 円 | Q26: =SUM(E26:P26) -> 0
B27: 産業廃棄物 （固形） | C27: 排出量 | D27: ㎏ | Q27: =SUM(E27:P27) -> 0
C28: 処理費用 | D28: 円 | Q28: =SUM(E28:P28) -> 0
B29: 産業廃棄物 （液状） | C29: 排出量 | D29: ℓ | Q29: =SUM(E29:P29) -> 0
C30: 処理費用 | D30: 円 | Q30: =SUM(E30:P30) -> 0
B31: 処理費用合計 | D31: 円 | E31: =E24+E26+E28+E30 -> 0 | F31: =F24+F26+F28+F30 -> 0 | G31: =G24+G26+G28+G30 -> 0 | H31: =H24+H26+H28+H30 -> 0 | I31: =I24+I26+I28+I30 -> 0 | J31: =J24+J26+J28+J30 -> 0 | K31: =K24+K26+K28+K30 -> 0 | L31: =L24+L26+L28+L30 -> 0 | ... P31: =P24+P26+P28+P30 -> 0 | Q31: =SUM(E31:P31) -> 0
A32: 水の使用量 | B32: 上水道 | C32: 使用量 | D32: ㎥ | Q32: =SUM(E32:P32) -> 0
C33: 料金 | D33: 円 | Q33: =SUM(E33:P33) -> 0
A34: 二酸化炭素換算した エネルギーの使用量 | B34: 電力 | C34: 右記排出係数 により換算＿ 単位：kg-CO2 | D34: 0.4 | E34: =$D34*E6 -> 0 | F34: =$D34*F6 -> 0 | G34: =$D34*G6 -> 0 | H34: =$D34*H6 -> 0 | I34: =$D34*I6 -> 0 | J34: =$D34*J6 -> 0 | K34: =$D34*K6 -> 0 | L34: =$D34*L6 -> 0 | ... P34: =$D34*P6 -> 0 | Q34: =SUM(E34:P34) -> 0
B35: ガス | D35: 2.09 | E35: =$D35*E8 -> 0 | F35: =$D35*F8 -> 0 | G35: =$D35*G8 -> 0 | H35: =$D35*H8 -> 0 | I35: =$D35*I8 -> 0 | J35: =$D35*J8 -> 0 | K35: =$D35*K8 -> 0 | L35: =$D35*L8 -> 0 | ... P35: =$D35*P8 -> 0 | Q35: =SUM(E35:P35) -> 0
B36: ガソリン | D36: 2.29 | E36: =$D36*E10 -> 0 | F36: =$D36*F10 -> 0 | G36: =$D36*G10 -> 0 | H36: =$D36*H10 -> 0 | I36: =$D36*I10 -> 0 | J36: =$D36*J10 -> 0 | K36: =$D36*K10 -> 0 | L36: =$D36*L10 -> 0 | ... P36: =$D36*P10 -> 0 | Q36: =SUM(E36:P36) -> 0
B37: 軽油 | D37: 2.62 | E37: =$D37*E12 -> 0 | F37: =$D37*F12 -> 0 | G37: =$D37*G12 -> 0 | H37: =$D37*H12 -> 0 | I37: =$D37*I12 -> 0 | J37: =$D37*J12 -> 0 | K37: =$D37*K12 -> 0 | L37: =$D37*L12 -> 0 | ... P37: =$D37*P12 -> 0 | Q37: =SUM(E37:P37) -> 0
B38: 灯油 | D38: 2.5 | E38: =$D38*E14 -> 0 | F38: =$D38*F14 -> 0 | G38: =$D38*G14 -> 0 | H38: =$D38*H14 -> 0 | I38: =$D38*I14 -> 0 | J38: =$D38*J14 -> 0 | K38: =$D38*K14 -> 0 | L38: =$D38*L14 -> 0 | ... P38: =$D38*P14 -> 0 | Q38: =SUM(E38:P38) -> 0
B39: 重油 | D39: 2.75 | E39: =$D39*E16 -> 0 | F39: =$D39*F16 -> 0 | G39: =$D39*G16 -> 0 | H39: =$D39*H16 -> 0 | I39: =$D39*I16 -> 0 | J39: =$D39*J16 -> 0 | K39: =$D39*K16 -> 0 | L39: =$D39*L16 -> 0 | ... P39: =$D39*P16 -> 0 | Q39: =SUM(E39:P39) -> 0
B40: =基本情報!$AL$72&"" | E40: =E18*$D40 -> 0 | F40: =F18*$D40 -> 0 | G40: =G18*$D40 -> 0 | H40: =H18*$D40 -> 0 | I40: =I18*$D40 -> 0 | J40: =J18*$D40 -> 0 | K40: =K18*$D40 -> 0 | L40: =L18*$D40 -> 0 | ... P40: =P18*$D40 -> 0 | Q40: =SUM(E40:P40) -> 0
B41: =基本情報!AQ72&"" | E41: =E20*$D41 -> 0 | F41: =F20*$D41 -> 0 | G41: =G20*$D41 -> 0 | H41: =H20*$D41 -> 0 | I41: =I20*$D41 -> 0 | J41: =J20*$D41 -> 0 | K41: =K20*$D41 -> 0 | L41: =L20*$D41 -> 0 | ... P41: =P20*$D41 -> 0 | Q41: =SUM(E41:P41) -> 0
...

Sheet レベルA（分析）
A1: 様式第２号（第４条第２号関係）
A3: ［レベルA］状況整理と決定【決定】
B5: エネルギーの使用 | W5: 一般・産業廃棄物の排出 | AQ5: 水の使用
A6: 前年度の 結果
B7: 二酸化炭素換算のエネルギー使用量削減率 | L7: =IF(OR('レベルA（状況）'!$Q$85="", 'レベルA（状況）'!$Q$85=0), "", ('レベルA（状況）'!$Q$85-'レベルA（状況）'!$Q$42)/'レベルA（状況）'!$Q$85*100) | N7: ％ | O7: コスト削減金額 | T7: =IF(('レベルA（状況）'!Q65-'レベルA（状況）'!Q22)/10000=0, "", ('レベルA（状況）'!Q65-'レベルA（状況）'!Q22)/10000) | V7: 万円 | W7: 処理費用の削減率 | AD7: =IF(OR('レベルA（状況）'!$Q$74="", 'レベルA（状況）'!$Q$74=0), "", ('レベルA（状況）'!$Q$74-'レベルA（状況）'!$Q$31)/'レベルA（状況）'!$Q$74*100) | AF7: ％ | AG7: 処理費用の削減金額 | AN7: =IF(('レベルA（状況）'!Q74-'レベルA（状況）'!Q31)/10000=0, "", ('レベルA（状況）'!Q74-'レベルA（状況）'!Q31)/10000) | AP7: 万円 | AQ7: 水道使用量の削減率 | AX7: =IF(OR('レベルA（状況）'!$Q$75="", 'レベルA（状況）'!$Q$75=0), "", ('レベルA（状況）'!$Q$75-'レベルA（状況）'!$Q$32)/'レベルA（状況）'!$Q$75*100) | AZ7: ％ | BA7: 水道料金の削減金額 | BH7: =IF(('レベルA（状況）'!Q76-'レベルA（状況）'!Q33)/10000=0, "", ('レベルA（状況）'!Q76-'レベルA（状況）'!Q33)/10000) | BJ7: 万円
A9: 傾向
A10: 原因
A11: 対策
A13: 前年度の活動の振り返り
A14: 前年度の対策 （前年度のエコアクションから転記）
A15: 対策の 実施状況

Sheet レベルB
A1: 様式第３号（第４条第３号関係）
A3: ［レベルB］状況分析と対応
I4: 前年度の振り返り
A5: 法令 | C5: 法令との 関係度 | D5: 法令に関係する事業活動や設備 | F5: 現在の直接・間接影響（どうなる、どうなる可能性がある） | G5: 現在の直接・間接影響への具体的な対応方法 | I5: 影響のあった事業活動や設備と、影響の内容 （前年度のエコアクションより記入） | J5: 対応の実施状況
D6: （業務、建物、機械、車両・運搬具、保管場所 など） | E6: 有無
A7: 地球環境保全・省エネ
B8: 地球温暖化対策推進法
B9: 省エネルギー法
B10: フロン排出抑制法
B11: 建築物省エネ法
A12: 廃棄物・リサイクル
B13: 資源有効利用促進法
B14: 廃棄物の処理及び清掃に関する法律
B15: 家電リサイクル法
B16: 建設リサイクル法
A17: 大気汚染・水質汚濁・土壌汚染
B18: 大気汚染防止法
B19: 自動車ＮＯｘ・ＰＭ法
B20: 水質汚濁防止法
B21: 下水道法
A22: 騒音・振動・悪臭
B23: 騒音規制法
B24: 振動規制法
B25: 悪臭防止法
A26: 化学物質
B27: ＰＣＢ特別措置法
B28: 毒物劇物法
B29: 消防法（危険物の貯蔵・取扱基準）
B30: 水銀汚染防止法
A31: その他、重要度の高い、関係する法令

Sheet レベルC
A1: 様式第４号（第４条第４号関係）
A3: ［レベルC］マネジメントの実践
M4: 前年度の振り返り（前年度のエコレポートより転記）
A5: 実施項目 | B5: 実施 | C5: 推進責任者名 | D5: 削減目標 （数値） | E5: P （Plan：計画の策定） | F5: D （Do：計画の実施） | G5: C （Check：取組状況の確認及び評価） | H5: A （Action：見直し） | J5: P （Plan：計画の策定） 〈環境経営レポート掲載用〉 | M5: 実施有無 | N5: 削減目標 | O5: P （Plan：計画の策定） | P5: D （Do：計画の実施） | Q5: C （Check：取組状況の確認及び評価） | R5: A （Action：見直し）
E6: レベルA、Bの結果を踏まえ、今期実施する具体的な行動 実施時期や期限を明示 | F6: 計画の実施結果 数値を用いて記述 | G6: 成功した要因、うまくできなかった原因の分析 | H6: 1年間の活動を振り返っての、来期の行動計画 | J6: 掲載行 | K6: 掲載文（３行以内）
A7: 二酸化炭素排出量の削減 （エネルギー使用量の削減など） | B7: 必須 | J7: 1 | M7: あり
A8: 廃棄物排出量の削減 | B8: =IF(OR(基本情報!T75="〇", 基本情報!T77="〇", 基本情報!AA73="〇", 基本情報!AS73="〇"), "必須", "該当なし") -> 該当なし | J8: =IF(OR(基本情報!AA73="〇",基本情報!AS73="〇",基本情報!T75="〇", 基本情報!T77="〇"), 2, "─") -> ─
A9: 水使用量の削減
A10: 化学物質の適正管理遵守・維持 | D10: ―
A11: 内部のコミュニケーション | D11: ― | N11: ―
A12: 会議、打合せ、勉強会、掲示板、 報告書、チラシなど
A13: 外部とのコミュニケーション | D13: ― | N13: ―
A14: 情報発信、問い合わせ、苦情など
A15: 環境に関する教育・訓練 | D15: ― | N15: ―
A16: 社内勉強会、セミナー開催・参加など

Sheet ※非表示
A1: レベルC掲載用 | B1: 選択肢 | C1: COUNT | D1: LIST | L1: 7 | M1: 8 | N1: 9 | O1: 10 | P1: 11 | Q1: 12 | R1: 13
A2: =IF(レベルC!J7=0,"─",レベルC!J7) -> 1 | B2: 1 | C2: =COUNTIF(A$2:A$8,$B2) -> 1 | D2: =IF(C2=0,$B2,"") | E2: =A2 -> 1 | F2: =IF(COUNTIF($E$2:E$2,$A3)>0,"",$A3) -> ─ | G2: =IF(COUNTIF($E$2:F$2,$A4)>0,"",$A4) | H2: =IF(COUNTIF($E$2:G$2,$A5)>0,"",$A5) | I2: =IF(COUNTIF($E$2:H$2,$A6)>0,"",$A6) | J2: =IF(COUNTIF($E$2:I$2,$A7)>0,"",$A7) | K2: =IF(COUNTIF($E$2:J$2,$A8)>0,"",$A8) | L2: {=_xlfn._xlws.SORT(_xlfn.UNIQUE(_xlfn._xlws.FILTER(E2:E5,E2:E5<>""),1,1))} -> 1 | M2: {=_xlfn._xlws.SORT(_xlfn.UNIQUE(_xlfn._xlws.FILTER(F2:F5,F2:F5<>""),1,1))} -> 2 | N2: {=_xlfn._xlws.SORT(_xlfn.UNIQUE(_xlfn._xlws.FILTER(G2:G5,G2:G5<>""),1,1))} -> 2 | O2: {=_xlfn._xlws.SORT(_xlfn.UNIQUE(_xlfn._xlws.FILTER(H2:H5,H2:H5<>""),1,1))} -> 2 | P2: {=_xlfn._xlws.SORT(_xlfn.UNIQUE(_xlfn._xlws.FILTER(I2:I5,I2:I5<>""),1,1))} -> 2 | Q2: {=_xlfn._xlws.SORT(_xlfn.UNIQUE(_xlfn._xlws.FILTER(J2:J5,J2:J5<>""),1,1))} -> 2 | R2: {=_xlfn._xlws.SORT(_xlfn.UNIQUE(_xlfn._xlws.FILTER(K2:K5,K2:K5<>""),1,1))} -> 2
A3: =IF(レベルC!J8=0,"─",レベルC!J8) -> ─ | B3: 2 | C3: =COUNTIF(A$2:A$8,$B3) -> 0 | D3: =IF(C3=0,$B3,"") -> 2 | E3: =IF(E$2=$B3,"",IF(E$2<>$D3,$D3,"")) -> 2 | F3: =IF(F$2=$B3,"",IF(F$2<>$D3,$D3,"")) -> 2 | G3: =IF(G$2=$B3,"",IF(G$2<>$D3,$D3,"")) -> 2 | H3: =IF(H$2=$B3,"",IF(H$2<>$D3,$D3,"")) -> 2 | I3: =IF(I$2=$B3,"",IF(I$2<>$D3,$D3,"")) -> 2 | J3: =IF(J$2=$B3,"",IF(J$2<>$D3,$D3,"")) -> 2 | K3: =IF(K$2=$B3,"",IF(K$2<>$D3,$D3,"")) -> 2 | L3: 2 | M3: 3 | N3: 3 | O3: 3 | P3: 3 | Q3: 3 | R3: 3
A4: =IF(レベルC!J9=0,"─",レベルC!J9) -> ─ | B4: 3 | C4: =COUNTIF(A$2:A$8,$B4) -> 0 | D4: =IF(C4=0,$B4,"") -> 3 | E4: =IF(E$2=$B4,"",IF(E$2<>$D4,$D4,"")) -> 3 | F4: =IF(F$2=$B4,"",IF(F$2<>$D4,$D4,"")) -> 3 | G4: =IF(G$2=$B4,"",IF(G$2<>$D4,$D4,"")) -> 3 | H4: =IF(H$2=$B4,"",IF(H$2<>$D4,$D4,"")) -> 3 | I4: =IF(I$2=$B4,"",IF(I$2<>$D4,$D4,"")) -> 3 | J4: =IF(J$2=$B4,"",IF(J$2<>$D4,$D4,"")) -> 3 | K4: =IF(K$2=$B4,"",IF(K$2<>$D4,$D4,"")) -> 3 | L4: 3 | M4: ─ | N4: ─ | O4: ─ | P4: ─ | Q4: ─ | R4: ─
A5: =IF(レベルC!J10=0,"─",レベルC!J10) -> ─ | B5: ─ | C5: =COUNTIF(A$2:A$8,$B5) -> 6 | D5: =$B5 -> ─ | E5: =IF(E$2=$B5,"",IF(E$2<>$D5,$D5,"")) -> ─ | F5: =IF(F$2=$B5,"",IF(F$2<>$D5,$D5,"")) | G5: =IF(G$2=$B5,"",IF(G$2<>$D5,$D5,"")) -> ─ | H5: =IF(H$2=$B5,"",IF(H$2<>$D5,$D5,"")) -> ─ | I5: =IF(I$2=$B5,"",IF(I$2<>$D5,$D5,"")) -> ─ | J5: =IF(J$2=$B5,"",IF(J$2<>$D5,$D5,"")) -> ─ | K5: =IF(K$2=$B5,"",IF(K$2<>$D5,$D5,"")) -> ─ | L5: ─
A6: =IF(レベルC!J11=0,"─",レベルC!J11) -> ─
A7: =IF(レベルC!J13=0,"─",レベルC!J13) -> ─
A8: =IF(レベルC!J15=0,"─",レベルC!J15) -> ─

Sheet 環境経営レポート【レベルＡ】
AD1: 環境経営レポートの発行年月日
G5: 様式第５号（第４条第５号関係）
AI6: 利用者コード | AP6: IEA | AV6: - | AW6: =IF(基本情報!AQ2="","",基本情報!AQ2)
H7: 板橋エコアクション
T9: 環境経営レポート | AR9: =IF(申請書!L48="○","レベルＣ",IF(申請書!L46="○","レベルＢ",IF(申請書!L44="○","レベルＡ","")))
W11: =IF(申請書!R38="","",申請書!R38) | AB11: 年度 活動実績報告書 | AQ11: ※活動レベルについては注記をご参照ください
H12: （ | S12: =IF(申請書!R38="","",申請書!R38) | W12: 年 | Y12: =IF(申請書!Y38="","",申請書!Y38) | AB12: 月 | AD12: ～ | AF12: =申請書!AH38 | AJ12: 年 | AL12: =申請書!AO38 | AO12: 月 | AQ12: ）
G14: １．組織概要
H15: 事業所名 | O15: ： | P15: =IF(基本情報!K10="","",基本情報!K10) | AJ15: 資本金 | AO15: ： | AP15: =IF(基本情報!K33="","",基本情報!K33) | AU15: 万円
H16: 代表者名 | O16: ： | P16: =IF(基本情報!K14="","",基本情報!K14) | AJ16: 設立 | AO16: ： | AP16: =IF(基本情報!Z33="","",基本情報!Z33) | AU16: 年 | AW16: =IF(基本情報!AF33="","",基本情報!AF33) | AZ16: 月
H17: 業種 | O17: ： | P17: =IF(基本情報!K29="","",基本情報!K29) | AJ17: 従業員数 | AO17: ： | AQ17: =IF(基本情報!AP33="","",基本情報!AP33) | AU17: 名
G19: ２．環境経営方針
H20: 私たちは、深刻化する地球環境に対し積極的に貢献するため、環境経営システムを構築し、環境に配慮した企業経営の継続的改善に取り組んでまいります。
G22: ３．主な環境活動の結果
I23: =IF('レベルA（分析）'!L7>=0, "✓ 二酸化炭素換算のエネルギー使用量を、前年度と比べて" & TEXT(ABS('レベルA（分析）'!L7), "0.0") & "％削減することができました。", "✓ 二酸化炭素換算のエネルギー使用量が、前年度と比べて" & TEXT(ABS('レベルA（分析）'!L7), "0.0") & "％増加しました。" ) -> #VALUE!
I24: =IF('レベルA（分析）'!AD7>=0, "✓ 廃棄物の排出抑制などにより廃棄コストを、前年度と比べて" & TEXT(ABS('レベルA（分析）'!AD7), "0.0") & "％削減することができました。", "✓ 産業廃棄物の廃棄コストが、前年度と比べて" & TEXT(ABS('レベルA（分析）'!AD7), "0.0") & "％増加しました。") -> #VALUE!
I25: =IF('レベルA（分析）'!AX7>=0, "✓ 水の使用量を、前年度と比べて" & TEXT(ABS('レベルA（分析）'!AX7), "0.0") & "％削減することができました。", "✓ 水の使用量が、前年度と比べて" & TEXT(ABS('レベルA（分析）'!AX7), "0.0") & "％増加しました。") -> #VALUE!
G42: ４．代表者による全体の評価
AI48: =IF(AP1="","",AP1)
AI49: =IF(基本情報!$K$18="","",基本情報!$K$18)
AI50: =IF(基本情報!K10="","",基本情報!K10)
AI51: =IF(基本情報!AJ13="","",基本情報!AJ13) | AO51: =IF(基本情報!K14="","",基本情報!K14)
E54: （注記）板橋エコアクション環境経営レポートをご覧になる前に（利用者が作成する環境経営レポートについて）
F55: 板橋区は、実行可能なエコアクションの選定とその実践を通じた環境配慮に関する理解の深化、目的意識の醸成及び継続して実践す るプロセスに着目し、この一連のプロセスをマネジメントする活動を支援しています。 活動プログラム「板橋エコアクション」は環境マネジメントシステムであり、複数のマネジメントシート（マネジメントに必要な機能もつシート）を使用して環境への取り組みを自己分析し、「板橋エコアクション環境経営レポート」にまとめて公表しています。 取り組みレベルはA、B、Cの三段階より利用者が選択し、Aは内部の状況把握、BはAに加えて外部との関り、CはBに加えて環境マネジメントシステムの理解と実践です。

Sheet 環境経営レポート【レベルＢ・Ｃ】
AD1: 環境経営レポートの発行年月日
G5: 様式第５号（第４条第５号関係）
AI6: 利用者コード | AP6: IEA | AV6: - | AW6: =IF(基本情報!AQ2="","",基本情報!AQ2)
H7: 板橋エコアクション
T9: 環境経営レポート | AR9: =IF(申請書!L48="○","レベルＣ",IF(申請書!L46="○","レベルＢ",IF(申請書!L44="○","レベルＡ","")))
W11: =IF(申請書!R38="","",申請書!R38) | AB11: 年度 活動実績報告書 | AQ11: ※活動レベルについては注記をご参照ください
H12: （ | S12: =IF(申請書!R38="","",申請書!R38) | W12: 年 | Y12: =IF(申請書!Y38="","",申請書!Y38) | AB12: 月 | AD12: ～ | AF12: =申請書!AH38 | AJ12: 年 | AL12: =申請書!AO38 | AO12: 月 | AQ12: ）
G14: １．組織概要
H15: 事業所名 | O15: ： | P15: =IF(基本情報!K10="","",基本情報!K10) | AJ15: 資本金 | AO15: ： | AP15: =IF(基本情報!K33="","",基本情報!K33) | AU15: 万円
H16: 代表者名 | O16: ： | P16: =IF(基本情報!K14="","",基本情報!K14) | AJ16: 設立 | AO16: ： | AP16: =IF(基本情報!Z33="","",基本情報!Z33) | AU16: 年 | AW16: =IF(基本情報!AF33="","",基本情報!AF33) | AZ16: 月
H17: 業種 | O17: ： | P17: =IF(基本情報!K29="","",基本情報!K29) | AJ17: 従業員数 | AO17: ： | AQ17: =IF(基本情報!AP33="","",基本情報!AP33) | AU17: 名
G19: ２．環境経営方針
H20: 私たちは、深刻化する地球環境に対し積極的に貢献するため、環境経営システムを構築し、環境に配慮した企業経営の継続的改善に取り組んでまいります。
G22: ３．主な環境活動の結果
I23: =IF('レベルA（分析）'!L7>=0, "✓ 二酸化炭素換算のエネルギー使用量を、前年度と比べて" & TEXT(ABS('レベルA（分析）'!L7), "0.0") & "％削減することができました。", "✓ 二酸化炭素換算のエネルギー使用量が、前年度と比べて" & TEXT(ABS('レベルA（分析）'!L7), "0.0") & "％増加しました。" ) -> #VALUE!
I24: =IF('レベルA（分析）'!AD7>=0, "✓ 廃棄物の排出抑制などにより廃棄コストを、前年度と比べて" & TEXT(ABS('レベルA（分析）'!AD7), "0.0") & "％削減することができました。", "✓ 産業廃棄物の廃棄コストが、前年度と比べて" & TEXT(ABS('レベルA（分析）'!AD7), "0.0") & "％増加しました。") -> #VALUE!
I25: =IF('レベルA（分析）'!AX7>=0, "✓ 水の使用量を、前年度と比べて" & TEXT(ABS('レベルA（分析）'!AX7), "0.0") & "％削減することができました。", "✓ 水の使用量が、前年度と比べて" & TEXT(ABS('レベルA（分析）'!AX7), "0.0") & "％増加しました。") -> #VALUE!
G42: ４．法令等順守の状況
H43: 私たちの事業は、主に次の法令と関係があります。
I44: {=IFERROR(INDEX(レベルB!$B:$B, MOD(_xlfn.AGGREGATE(15, 6, (ROW(レベルB!$C$2:$C$100) + (レベルB!$C$2:$C$100="小")*10000) / ((レベルB!$C$2:$C$100="大") + (レベルB!$C$2:$C$100="小")), 1), 10000)), "")} | AE44: {=IFERROR(INDEX(レベルB!$B:$B, MOD(_xlfn.AGGREGATE(15, 6, (ROW(レベルB!$C$2:$C$100) + (レベルB!$C$2:$C$100="小")*10000) / ((レベルB!$C$2:$C$100="大") + (レベルB!$C$2:$C$100="小")), 2), 10000)), "")}
I46: {=IFERROR(INDEX(レベルB!$B:$B, MOD(_xlfn.AGGREGATE(15, 6, (ROW(レベルB!$C$2:$C$100) + (レベルB!$C$2:$C$100="小")*10000) / ((レベルB!$C$2:$C$100="大") + (レベルB!$C$2:$C$100="小")), 3), 10000)), "")} | AE46: {=IFERROR(INDEX(レベルB!$B:$B, MOD(_xlfn.AGGREGATE(15, 6, (ROW(レベルB!$C$2:$C$100) + (レベルB!$C$2:$C$100="小")*10000) / ((レベルB!$C$2:$C$100="大") + (レベルB!$C$2:$C$100="小")), 4), 10000)), "")}
I48: {=IFERROR(INDEX(レベルB!$B:$B, MOD(_xlfn.AGGREGATE(15, 6, (ROW(レベルB!$C$2:$C$100) + (レベルB!$C$2:$C$100="小")*10000) / ((レベルB!$C$2:$C$100="大") + (レベルB!$C$2:$C$100="小")), 5), 10000)), "")} | AE48: {=IFERROR(INDEX(レベルB!$B:$B, MOD(_xlfn.AGGREGATE(15, 6, (ROW(レベルB!$C$2:$C$100) + (レベルB!$C$2:$C$100="小")*10000) / ((レベルB!$C$2:$C$100="大") + (レベルB!$C$2:$C$100="小")), 6), 10000)), "")}
I50: {=IFERROR(INDEX(レベルB!$B:$B, MOD(_xlfn.AGGREGATE(15, 6, (ROW(レベルB!$C$2:$C$100) + (レベルB!$C$2:$C$100="小")*10000) / ((レベルB!$C$2:$C$100="大") + (レベルB!$C$2:$C$100="小")), 7), 10000)), "")} | AE50: {=IFERROR(INDEX(レベルB!$B:$B, MOD(_xlfn.AGGREGATE(15, 6, (ROW(レベルB!$C$2:$C$100) + (レベルB!$C$2:$C$100="小")*10000) / ((レベルB!$C$2:$C$100="大") + (レベルB!$C$2:$C$100="小")), 8), 10000)), "")}
I52: {=IFERROR(INDEX(レベルB!$B:$B, MOD(_xlfn.AGGREGATE(15, 6, (ROW(レベルB!$C$2:$C$100) + (レベルB!$C$2:$C$100="小")*10000) / ((レベルB!$C$2:$C$100="大") + (レベルB!$C$2:$C$100="小")), 9), 10000)), "")} | AE52: {=IFERROR(INDEX(レベルB!$B:$B, MOD(_xlfn.AGGREGATE(15, 6, (ROW(レベルB!$C$2:$C$100) + (レベルB!$C$2:$C$100="小")*10000) / ((レベルB!$C$2:$C$100="大") + (レベルB!$C$2:$C$100="小")), 10), 10000)), "")}
I54: {=IFERROR(INDEX(レベルB!$B:$B, MOD(_xlfn.AGGREGATE(15, 6, (ROW(レベルB!$C$2:$C$100) + (レベルB!$C$2:$C$100="小")*10000) / ((レベルB!$C$2:$C$100="大") + (レベルB!$C$2:$C$100="小")), 11), 10000)), "")} | AE54: {=IFERROR(INDEX(レベルB!$B:$B, MOD(_xlfn.AGGREGATE(15, 6, (ROW(レベルB!$C$2:$C$100) + (レベルB!$C$2:$C$100="小")*10000) / ((レベルB!$C$2:$C$100="大") + (レベルB!$C$2:$C$100="小")), 12), 10000)), "")}
C57: （次のページもあります）
G59: ５.マネジメントサイクルの主な取り組み
I60: 取組項目 | V60: 削減目標 | AB60: 取組計画の概要
I61: 二酸化炭素排出量の削減 （エネルギー使用量の削減など） | V61: =IFERROR(INDEX(レベルC!$D$7:$D$15, MATCH(1, レベルC!$J$7:$J$15, 0))& "", "") | AB61: =IFERROR(INDEX(レベルC!$K$7:$K$15, MATCH(1, レベルC!$J$7:$J$15, 0))& "", "")
I62: =IFERROR(INDEX(レベルC!$A$7:$A$15, MATCH(2, レベルC!$J$7:$J$15, 0)), "") | V62: =IFERROR(INDEX(レベルC!$D$7:$D$15, MATCH(2, レベルC!$J$7:$J$15, 0))& "", "") | AB62: =IFERROR(INDEX(レベルC!$K$7:$K$15, MATCH(2, レベルC!$J$7:$J$15, 0))& "", "")
I63: {=IFERROR(INDEX(レベルC!$A$7:$A$15, MATCH(3, レベルC!$J$7:$J$15, 0)), "")} | V63: =IFERROR(INDEX(レベルC!$D$7:$D$15, MATCH(3, レベルC!$J$7:$J$15, 0))& "", "") | AB63: =IFERROR(INDEX(レベルC!$K$7:$K$15, MATCH(3, レベルC!$J$7:$J$15, 0))& "", "")
G66: =IF(申請書!$L$46="○", "５．代表者による全体の評価", "６．代表者による全体の評価") -> ６．代表者による全体の評価
AI72: =IF(AP1="","",AP1)
AI73: =IF(基本情報!$K$18="","",基本情報!$K$18)
AI74: =IF(基本情報!K10="","",基本情報!K10)
AI75: =IF(基本情報!AJ13="","",基本情報!AJ13) | AO75: =IF(基本情報!K14="","",基本情報!K14)
E78: （注記）板橋エコアクション環境経営レポートをご覧になる前に（利用者が作成する環境経営レポートについて）
F79: 板橋区は、実行可能なエコアクションの選定とその実践を通じた環境配慮に関する理解の深化、目的意識の醸成及び継続して実践す るプロセスに着目し、この一連のプロセスをマネジメントする活動を支援しています。 活動プログラム「板橋エコアクション」は環境マネジメントシステムであり、複数のマネジメントシート（マネジメントに必要な機能もつシート）を使用して環境への取り組みを自己分析し、「板橋エコアクション環境経営レポート」にまとめて公表しています。 取り組みレベルはA、B、Cの三段階より利用者が選択し、Aは内部の状況把握、BはAに加えて外部との関り、CはBに加えて環境マネジメントシステムの理解と実践です。

Sheet 【入力不要】提案シート
T2: 利用者コード | Z2: IEA | AC2: - | AD2: =IF(基本情報!AQ2="","",基本情報!AQ2)
A3: =IF(基本情報!K10="","",基本情報!K10) | I3: 御中
A5: 専門家からの提案
A44: ※添付で可。追加資料は適宜シートを追加。
